BEGIN:VCALENDAR
VERSION:2.0
PRODID:-//http://santabiker.com - ECPv6.8.2.1//NONSGML v1.0//EN
CALSCALE:GREGORIAN
METHOD:PUBLISH
X-ORIGINAL-URL:https://santabiker.com
X-WR-CALDESC:Events for http://santabiker.com
REFRESH-INTERVAL;VALUE=DURATION:PT1H
X-Robots-Tag:noindex
X-PUBLISHED-TTL:PT1H
BEGIN:VTIMEZONE
TZID:America/New_York
BEGIN:DAYLIGHT
TZOFFSETFROM:-0500
TZOFFSETTO:-0400
TZNAME:EDT
DTSTART:20210314T070000
END:DAYLIGHT
BEGIN:STANDARD
TZOFFSETFROM:-0400
TZOFFSETTO:-0500
TZNAME:EST
DTSTART:20211107T060000
END:STANDARD
END:VTIMEZONE
BEGIN:VEVENT
DTSTART;TZID=America/New_York:20211220T130000
DTEND;TZID=America/New_York:20211220T150000
DTSTAMP:20260421T034003
CREATED:20211130T141343Z
LAST-MODIFIED:20211130T142224Z
UID:4550-1640005200-1640012400@santabiker.com
SUMMARY:Santa makes an appearance at The Russell Home
DESCRIPTION:In a special tradition set by Jay Herrington and his honorary Santa’s of Fish on Fire\, Santa is making his list for a special yearly appearance at The Russell Home \n  \nI went back on my album to show the pictures of the first ever Russell Home by Santa & The crew from Fish on Fire.  The professional chair and backdrop have made a big impression. \n  \nDue to covid restrictions\, this is a closed appearance open to the staff & kids of The Russell Home. \nSanta is limited to his staff of  6 elves \n 
URL:https://santabiker.com/event/santa-makes-an-appearance-at-the-russell-home/
ATTACH;FMTTYPE=image/jpeg:https://santabiker.com/wp-content/uploads/2021/11/5a3fbd1b5d68b808-photo-scaled.jpg
END:VEVENT
END:VCALENDAR