BEGIN:VCALENDAR
VERSION:2.0
PRODID:-//http://santabiker.com - ECPv6.8.2.1//NONSGML v1.0//EN
CALSCALE:GREGORIAN
METHOD:PUBLISH
X-WR-CALNAME:http://santabiker.com
X-ORIGINAL-URL:https://santabiker.com
X-WR-CALDESC:Events for http://santabiker.com
REFRESH-INTERVAL;VALUE=DURATION:PT1H
X-Robots-Tag:noindex
X-PUBLISHED-TTL:PT1H
BEGIN:VTIMEZONE
TZID:America/New_York
BEGIN:DAYLIGHT
TZOFFSETFROM:-0500
TZOFFSETTO:-0400
TZNAME:EDT
DTSTART:20180311T070000
END:DAYLIGHT
BEGIN:STANDARD
TZOFFSETFROM:-0400
TZOFFSETTO:-0500
TZNAME:EST
DTSTART:20181104T060000
END:STANDARD
END:VTIMEZONE
BEGIN:VEVENT
DTSTART;TZID=America/New_York:20181110T150000
DTEND;TZID=America/New_York:20181110T180000
DTSTAMP:20260424T150158
CREATED:20180825T151642Z
LAST-MODIFIED:20180825T155505Z
UID:2100-1541862000-1541872800@santabiker.com
SUMMARY:Bahia Shrine Motorcycle Unit LoBoil
DESCRIPTION:Saturday Nov 10\, 2018 from 3 to 6:00 p.m. \nSeminole Harley Davidson  located at 620 Hickman Circle Sanford\, Fl. \nThe Bahia Shrine Motorcycle Unit will be having an all you can eat  Seafood Lo-boil consisting of : \nSnow Crab Legs\, Shrimp\, sausage\, corn and potatoes. Price is 30.00 per person. \nPlease contact Kevin Clarke chairman and past president of the Bahia Motorcycle unit for advance tickets. 407-331-3200 \nAs a special surprise\, Santa has made arrangements to be there on his Harley and his official Throne Chair for those who may want to have personal handmade Christmas cards or a special Kodak moment for their scrapbook \nBelow are a few pictures from Last year. \n  \n  \n.    \nBahia Shrine motorcycle unit  All you can eat Lo-Boil 30.00 per person inc tax.\n 
URL:https://santabiker.com/event/bahia-shrine-motorcycle-unit-loboil/
END:VEVENT
BEGIN:VEVENT
DTSTART;TZID=America/New_York:20181117T170000
DTEND;TZID=America/New_York:20181117T210000
DTSTAMP:20260424T150158
CREATED:20180924T200236Z
LAST-MODIFIED:20180926T125900Z
UID:2138-1542474000-1542488400@santabiker.com
SUMMARY:Santa appears for Lake Ivanhoe Jingle @ Island Breeze Clothing
DESCRIPTION:Santa has spoken to CJ Thomas of Island Breeze clothing located at                                                                    1215 N Orange Ave\, Orlando\, FL 32804 \n\n\n\n\n\nI will be making another appearance like last year Sat Nov 17\, 2018\n\n\n\n\n\nEnclosed are a few pictures form last years Lake Ivanhoe Jingle. Everyone and anyone is welcomed to stop by for personal pictures with Santa and his magical two wheeled sleigh \n  \n \n \n \n 
URL:https://santabiker.com/event/2138/
END:VEVENT
BEGIN:VEVENT
DTSTART;TZID=America/New_York:20181123T173000
DTEND;TZID=America/New_York:20181123T203000
DTSTAMP:20260424T150158
CREATED:20180925T144016Z
LAST-MODIFIED:20180925T144315Z
UID:2141-1542994200-1543005000@santabiker.com
SUMMARY:Bahia Shrine Crash Team Night of Destruction
DESCRIPTION:Nov 23\, 2018\, Friday night Santa will make an appearance with the Bahia Shrine Crash team . \nThis will be at The Orlando Speed world 19164 E. Colonial Orlando\, Fl  32820 \nSanta be on his two wheeled Sleigh / Harley and will join the Bahia Shrines parade of units as we circle the track a couple of times before the races.
URL:https://santabiker.com/event/bahia-shrine-crash-team-night-of-destruction/
END:VEVENT
END:VCALENDAR