BEGIN:VCALENDAR
VERSION:2.0
PRODID:-//http://santabiker.com - ECPv6.8.2.1//NONSGML v1.0//EN
CALSCALE:GREGORIAN
METHOD:PUBLISH
X-WR-CALNAME:http://santabiker.com
X-ORIGINAL-URL:https://santabiker.com
X-WR-CALDESC:Events for http://santabiker.com
REFRESH-INTERVAL;VALUE=DURATION:PT1H
X-Robots-Tag:noindex
X-PUBLISHED-TTL:PT1H
BEGIN:VTIMEZONE
TZID:America/New_York
BEGIN:DAYLIGHT
TZOFFSETFROM:-0500
TZOFFSETTO:-0400
TZNAME:EDT
DTSTART:20250309T070000
END:DAYLIGHT
BEGIN:STANDARD
TZOFFSETFROM:-0400
TZOFFSETTO:-0500
TZNAME:EST
DTSTART:20251102T060000
END:STANDARD
END:VTIMEZONE
BEGIN:VEVENT
DTSTART;TZID=America/New_York:20251220T090000
DTEND;TZID=America/New_York:20251220T113000
DTSTAMP:20260419T164806
CREATED:20250216T024428Z
LAST-MODIFIED:20250218T221834Z
UID:7346-1766221200-1766230200@santabiker.com
SUMMARY:Pine Castle Womens Club Pancake breakfast with Santa
DESCRIPTION:  \n  \nSetting the third year of breakfast with Santa. Santa has his Santa stage for a special kodak moment \n 
URL:https://santabiker.com/event/pine-castle-womens-club-pancake-breakfast-with-santa/
END:VEVENT
END:VCALENDAR