BEGIN:VCALENDAR
VERSION:2.0
PRODID:-//http://santabiker.com - ECPv6.8.2.1//NONSGML v1.0//EN
CALSCALE:GREGORIAN
METHOD:PUBLISH
X-WR-CALNAME:http://santabiker.com
X-ORIGINAL-URL:https://santabiker.com
X-WR-CALDESC:Events for http://santabiker.com
REFRESH-INTERVAL;VALUE=DURATION:PT1H
X-Robots-Tag:noindex
X-PUBLISHED-TTL:PT1H
BEGIN:VTIMEZONE
TZID:America/New_York
BEGIN:DAYLIGHT
TZOFFSETFROM:-0500
TZOFFSETTO:-0400
TZNAME:EDT
DTSTART:20200308T070000
END:DAYLIGHT
BEGIN:STANDARD
TZOFFSETFROM:-0400
TZOFFSETTO:-0500
TZNAME:EST
DTSTART:20201101T060000
END:STANDARD
END:VTIMEZONE
BEGIN:VEVENT
DTSTART;TZID=America/New_York:20201216T180000
DTEND;TZID=America/New_York:20201216T210000
DTSTAMP:20260424T150245
CREATED:20201022T002554Z
LAST-MODIFIED:20201022T002649Z
UID:4079-1608141600-1608152400@santabiker.com
SUMMARY:Belle Isle Christmas Parade
DESCRIPTION:In keeping with the Belle Isle tradition\, I am pleased to announce that I will be driving through the streets of Belle Isle to offer a special Kodak moment and Santa sighting in our custom Santa sleigh  Dec 15\, 16\, 17 \n 
URL:https://santabiker.com/event/belle-isle-christmas-parade-2/
END:VEVENT
END:VCALENDAR