BEGIN:VCALENDAR
VERSION:2.0
PRODID:-//http://santabiker.com - ECPv6.8.2.1//NONSGML v1.0//EN
CALSCALE:GREGORIAN
METHOD:PUBLISH
X-WR-CALNAME:http://santabiker.com
X-ORIGINAL-URL:https://santabiker.com
X-WR-CALDESC:Events for http://santabiker.com
REFRESH-INTERVAL;VALUE=DURATION:PT1H
X-Robots-Tag:noindex
X-PUBLISHED-TTL:PT1H
BEGIN:VTIMEZONE
TZID:America/New_York
BEGIN:DAYLIGHT
TZOFFSETFROM:-0500
TZOFFSETTO:-0400
TZNAME:EDT
DTSTART:20200308T070000
END:DAYLIGHT
BEGIN:STANDARD
TZOFFSETFROM:-0400
TZOFFSETTO:-0500
TZNAME:EST
DTSTART:20201101T060000
END:STANDARD
END:VTIMEZONE
BEGIN:VEVENT
DTSTART;TZID=America/New_York:20201213T183000
DTEND;TZID=America/New_York:20201213T203000
DTSTAMP:20260424T162801
CREATED:20200831T200720Z
LAST-MODIFIED:20201209T185319Z
UID:4035-1607884200-1607891400@santabiker.com
SUMMARY:Skycrest neighborhood  HOA appearance
DESCRIPTION:In talking with Alyson Hill from the Skycrest neighborhood\, I have made arrangements to appear for their neighborhood HOA for a special Christmas appearance. \n  \nSkycrest neighborhood (off of Fern Creek) \nThe event is set up for 7:00 to 8:30 p.m. \n  \n  \n  \n  \n  \n 
URL:https://santabiker.com/event/bahia-shriners-childrens-christmas-party-2/
END:VEVENT
END:VCALENDAR