BEGIN:VCALENDAR
VERSION:2.0
PRODID:-//http://santabiker.com - ECPv6.8.2.1//NONSGML v1.0//EN
CALSCALE:GREGORIAN
METHOD:PUBLISH
X-ORIGINAL-URL:https://santabiker.com
X-WR-CALDESC:Events for http://santabiker.com
REFRESH-INTERVAL;VALUE=DURATION:PT1H
X-Robots-Tag:noindex
X-PUBLISHED-TTL:PT1H
BEGIN:VTIMEZONE
TZID:America/New_York
BEGIN:DAYLIGHT
TZOFFSETFROM:-0500
TZOFFSETTO:-0400
TZNAME:EDT
DTSTART:20200308T070000
END:DAYLIGHT
BEGIN:STANDARD
TZOFFSETFROM:-0400
TZOFFSETTO:-0500
TZNAME:EST
DTSTART:20201101T060000
END:STANDARD
END:VTIMEZONE
BEGIN:VEVENT
DTSTART;TZID=America/New_York:20201212T143000
DTEND;TZID=America/New_York:20201212T180000
DTSTAMP:20260424T150419
CREATED:20201029T224135Z
LAST-MODIFIED:20201128T152747Z
UID:4087-1607783400-1607796000@santabiker.com
SUMMARY:A special Christmas for the Curry Ford West district
DESCRIPTION:I will be joining Justin Bauknight of State Farm ins for being a wonderful part of Santa in the Curry Ford West district on Curry Ford Rd in Orlando
URL:https://santabiker.com/event/a-special-christmas-for-the-hour-glass-district/
END:VEVENT
BEGIN:VEVENT
DTSTART;TZID=America/New_York:20201212T180000
DTEND;TZID=America/New_York:20201212T210000
DTSTAMP:20260424T150419
CREATED:20200109T233249Z
LAST-MODIFIED:20200831T195921Z
UID:2537-1607796000-1607806800@santabiker.com
SUMMARY:Still Water estates HOA
DESCRIPTION:Saturday Dec 12\, 2020 Santa is planning on a special event at Stillwater Estates HOA for a wonderful Santa appearance. \nIn the past I have ridden in the fire truck to pass out candy for the kids and come back to pavilion entrance for pictures with Santa. \nWe are planning on something different & special this year \n 
URL:https://santabiker.com/event/still-water-estates-hoa/
END:VEVENT
END:VCALENDAR