BEGIN:VCALENDAR
VERSION:2.0
PRODID:-//http://santabiker.com - ECPv6.8.2.1//NONSGML v1.0//EN
CALSCALE:GREGORIAN
METHOD:PUBLISH
X-ORIGINAL-URL:https://santabiker.com
X-WR-CALDESC:Events for http://santabiker.com
REFRESH-INTERVAL;VALUE=DURATION:PT1H
X-Robots-Tag:noindex
X-PUBLISHED-TTL:PT1H
BEGIN:VTIMEZONE
TZID:America/New_York
BEGIN:DAYLIGHT
TZOFFSETFROM:-0500
TZOFFSETTO:-0400
TZNAME:EDT
DTSTART:20190310T070000
END:DAYLIGHT
BEGIN:STANDARD
TZOFFSETFROM:-0400
TZOFFSETTO:-0500
TZNAME:EST
DTSTART:20191103T060000
END:STANDARD
END:VTIMEZONE
BEGIN:VEVENT
DTSTART;TZID=America/New_York:20191218T170000
DTEND;TZID=America/New_York:20191218T210000
DTSTAMP:20260424T093547
CREATED:20191107T141210Z
LAST-MODIFIED:20191107T141210Z
UID:2469-1576688400-1576702800@santabiker.com
SUMMARY:Santa to Ride through Belle Isle
DESCRIPTION:In speaking with the events coordinator of Belle Isle\, I have agreed to drive through the city of Belle Isle on Dec 18 and 19th \nThank you Holly and Belle Isle City Council for your support \n 
URL:https://santabiker.com/event/santa-to-ride-through-belle-isle/
END:VEVENT
END:VCALENDAR