BEGIN:VCALENDAR
VERSION:2.0
PRODID:-//http://santabiker.com - ECPv6.8.2.1//NONSGML v1.0//EN
CALSCALE:GREGORIAN
METHOD:PUBLISH
X-WR-CALNAME:http://santabiker.com
X-ORIGINAL-URL:https://santabiker.com
X-WR-CALDESC:Events for http://santabiker.com
REFRESH-INTERVAL;VALUE=DURATION:PT1H
X-Robots-Tag:noindex
X-PUBLISHED-TTL:PT1H
BEGIN:VTIMEZONE
TZID:America/New_York
BEGIN:DAYLIGHT
TZOFFSETFROM:-0500
TZOFFSETTO:-0400
TZNAME:EDT
DTSTART:20190310T070000
END:DAYLIGHT
BEGIN:STANDARD
TZOFFSETFROM:-0400
TZOFFSETTO:-0500
TZNAME:EST
DTSTART:20191103T060000
END:STANDARD
END:VTIMEZONE
BEGIN:VEVENT
DTSTART;TZID=America/New_York:20191215T100000
DTEND;TZID=America/New_York:20191215T140000
DTSTAMP:20260424T105301
CREATED:20190116T195718Z
LAST-MODIFIED:20191212T230306Z
UID:2297-1576404000-1576418400@santabiker.com
SUMMARY:Santa to appear at Barber Park in Conway area
DESCRIPTION:In speaking with Christy Paul\, I have verified that I will be appearing at Barber Park. \nPlease join us and bring\, your family\, camera and Christmas spirit. \n  \n    
URL:https://santabiker.com/event/santa-to-appear-at-barber-park-in-conway-area/
END:VEVENT
BEGIN:VEVENT
DTSTART;TZID=America/New_York:20191215T150000
DTEND;TZID=America/New_York:20191215T210000
DTSTAMP:20260424T105301
CREATED:20190410T222111Z
LAST-MODIFIED:20191010T203544Z
UID:2329-1576422000-1576443600@santabiker.com
SUMMARY:Pete Madisson's 20th yr anniv Belle Isle Boat Parade
DESCRIPTION:This promises to be a great event for all. I have been appearing here since 2012. \nI look forward to putting on a special show for all. \n   \nSee no evil\, Hear no evil\, speak no evil\n 
URL:https://santabiker.com/event/pete-madissons-20th-yr-anniv-belle-isle-boat-parade/
END:VEVENT
END:VCALENDAR