BEGIN:VCALENDAR
VERSION:2.0
PRODID:-//http://santabiker.com - ECPv6.8.2.1//NONSGML v1.0//EN
CALSCALE:GREGORIAN
METHOD:PUBLISH
X-WR-CALNAME:http://santabiker.com
X-ORIGINAL-URL:https://santabiker.com
X-WR-CALDESC:Events for http://santabiker.com
REFRESH-INTERVAL;VALUE=DURATION:PT1H
X-Robots-Tag:noindex
X-PUBLISHED-TTL:PT1H
BEGIN:VTIMEZONE
TZID:America/New_York
BEGIN:DAYLIGHT
TZOFFSETFROM:-0500
TZOFFSETTO:-0400
TZNAME:EDT
DTSTART:20190310T070000
END:DAYLIGHT
BEGIN:STANDARD
TZOFFSETFROM:-0400
TZOFFSETTO:-0500
TZNAME:EST
DTSTART:20191103T060000
END:STANDARD
END:VTIMEZONE
BEGIN:VEVENT
DTSTART;TZID=America/New_York:20191206T180000
DTEND;TZID=America/New_York:20191206T190000
DTSTAMP:20260424T093154
CREATED:20191119T123646Z
LAST-MODIFIED:20191119T123646Z
UID:2504-1575655200-1575658800@santabiker.com
SUMMARY:Santa appears for Servants Heart Christmas
DESCRIPTION:On Friday Dec 06\, 2019\, Santa will appear at Pine Castle Women’s Club to honor the volunteers and staff of Servants Heart \n 
URL:https://santabiker.com/event/santa-appears-for-servants-heart-christmas/
END:VEVENT
BEGIN:VEVENT
DTSTART;TZID=America/New_York:20191206T193000
DTEND;TZID=America/New_York:20191206T220000
DTSTAMP:20260424T093154
CREATED:20191106T195431Z
LAST-MODIFIED:20191203T200038Z
UID:2467-1575660600-1575669600@santabiker.com
SUMMARY:Bahia Shriners Crash Team unit Bike Night
DESCRIPTION:Friday evening Dec 06\, 2019\, Santa is set to appear at Bahia Shrine for a special December appearance for Bike Night \nThis is being sponsored by the Bahia Shrine Crash team \nPlease bring your family\, friends\, camera and Christmas spirit. \n \n \nSee no evil\, Hear no evil\, speak no evil \n 
URL:https://santabiker.com/event/bahia-shriners-crash-team-unit-bike-night/
END:VEVENT
END:VCALENDAR