BEGIN:VCALENDAR
VERSION:2.0
PRODID:-//http://santabiker.com - ECPv6.8.2.1//NONSGML v1.0//EN
CALSCALE:GREGORIAN
METHOD:PUBLISH
X-WR-CALNAME:http://santabiker.com
X-ORIGINAL-URL:https://santabiker.com
X-WR-CALDESC:Events for http://santabiker.com
REFRESH-INTERVAL;VALUE=DURATION:PT1H
X-Robots-Tag:noindex
X-PUBLISHED-TTL:PT1H
BEGIN:VTIMEZONE
TZID:America/New_York
BEGIN:DAYLIGHT
TZOFFSETFROM:-0500
TZOFFSETTO:-0400
TZNAME:EDT
DTSTART:20190310T070000
END:DAYLIGHT
BEGIN:STANDARD
TZOFFSETFROM:-0400
TZOFFSETTO:-0500
TZNAME:EST
DTSTART:20191103T060000
END:STANDARD
END:VTIMEZONE
BEGIN:VEVENT
DTSTART;TZID=America/New_York:20191102T150000
DTEND;TZID=America/New_York:20191102T183000
DTSTAMP:20260424T022905
CREATED:20191107T142831Z
LAST-MODIFIED:20191107T142925Z
UID:2486-1572706800-1572719400@santabiker.com
SUMMARY:Bahia Shriners Motorcycle Unit LoBoil
DESCRIPTION:The Bahia Shriners Motorcycle Unit LoBoil featuring an all you can eat seafood with a special guest of Santa Claus. \nIn keeping with a tradition started in Nov of 2015\, I have agreed to appear as a guest for the Bahia Shriners LoBoil. \nThis will allow those who desire a chance for a special Kodak moment with Santa
URL:https://santabiker.com/event/bahia-shriners-motorcycle-unit-loboil/
END:VEVENT
END:VCALENDAR