BEGIN:VCALENDAR
VERSION:2.0
PRODID:-//http://santabiker.com - ECPv6.8.2.1//NONSGML v1.0//EN
CALSCALE:GREGORIAN
METHOD:PUBLISH
X-WR-CALNAME:http://santabiker.com
X-ORIGINAL-URL:https://santabiker.com
X-WR-CALDESC:Events for http://santabiker.com
REFRESH-INTERVAL;VALUE=DURATION:PT1H
X-Robots-Tag:noindex
X-PUBLISHED-TTL:PT1H
BEGIN:VTIMEZONE
TZID:America/New_York
BEGIN:DAYLIGHT
TZOFFSETFROM:-0500
TZOFFSETTO:-0400
TZNAME:EDT
DTSTART:20180311T070000
END:DAYLIGHT
BEGIN:STANDARD
TZOFFSETFROM:-0400
TZOFFSETTO:-0500
TZNAME:EST
DTSTART:20181104T060000
END:STANDARD
END:VTIMEZONE
BEGIN:VEVENT
DTSTART;TZID=America/New_York:20181221T083000
DTEND;TZID=America/New_York:20181221T120000
DTSTAMP:20260424T150234
CREATED:20181017T144710Z
LAST-MODIFIED:20181116T145018Z
UID:2179-1545381000-1545393600@santabiker.com
SUMMARY:Englewood Elementary school
DESCRIPTION:Back by popular request\, I will be at Englewood Elementary School  to give out gifts to special students and kids. \nI had so much fun last year they asked about me coming back. \nLooking forward to having the official Santa chair and props on display \n 
URL:https://santabiker.com/event/englewood-elementary-school/
END:VEVENT
BEGIN:VEVENT
DTSTART;TZID=America/New_York:20181221T150000
DTEND;TZID=America/New_York:20181221T173000
DTSTAMP:20260424T150234
CREATED:20181205T003348Z
LAST-MODIFIED:20181205T003348Z
UID:2278-1545404400-1545413400@santabiker.com
SUMMARY:Santa to appear at the Russell Home
DESCRIPTION:In working with the crew of Fish on Fire we have set a date of Dec. 21\, 2018 to appear at The Russell Home. This will run from 3:00 to 5:30 or may go to 6:00 \nThis has been an annual tradition for the past 4 years now\, The hospitality and warmth of the staff and kids has been first rate. \n 
URL:https://santabiker.com/event/santa-to-appear-at-the-russell-home/
LOCATION:The Rusell Home\, 510 Holden Ave\, \, Orlando\, FL 32839\, FL\, 32839\, United States
END:VEVENT
END:VCALENDAR