BEGIN:VCALENDAR
VERSION:2.0
PRODID:-//http://santabiker.com - ECPv6.8.2.1//NONSGML v1.0//EN
CALSCALE:GREGORIAN
METHOD:PUBLISH
X-WR-CALNAME:http://santabiker.com
X-ORIGINAL-URL:https://santabiker.com
X-WR-CALDESC:Events for http://santabiker.com
REFRESH-INTERVAL;VALUE=DURATION:PT1H
X-Robots-Tag:noindex
X-PUBLISHED-TTL:PT1H
BEGIN:VTIMEZONE
TZID:America/New_York
BEGIN:DAYLIGHT
TZOFFSETFROM:-0500
TZOFFSETTO:-0400
TZNAME:EDT
DTSTART:20180311T070000
END:DAYLIGHT
BEGIN:STANDARD
TZOFFSETFROM:-0400
TZOFFSETTO:-0500
TZNAME:EST
DTSTART:20181104T060000
END:STANDARD
END:VTIMEZONE
BEGIN:VEVENT
DTSTART;TZID=America/New_York:20181219T170000
DTEND;TZID=America/New_York:20181219T210000
DTSTAMP:20260424T205048
CREATED:20181120T215720Z
LAST-MODIFIED:20181120T215800Z
UID:2217-1545238800-1545253200@santabiker.com
SUMMARY:Santa appears for Serenity Grace toys drive
DESCRIPTION:I have made arrangements with Koko the manager of Serenity Grace for an evening of fun   I am making arrangements for the Santa chair and toy soldier to be there. for a wonderful time and a special Kodak moment for all the true believers. \nSanta is set to appear at the Taft Community center from 5 to 9:00 \nThis is located at 9450 S. Orange Ave. Orlando\, Fl 32829
URL:https://santabiker.com/event/santa-appears-for-serenity-grace-toys-drive/
LOCATION:Santa at Serenity Grace\, 9450 S. Orange Ave\, Orlando\, Fl\, 32809
END:VEVENT
END:VCALENDAR