BEGIN:VCALENDAR
VERSION:2.0
PRODID:-//http://santabiker.com - ECPv6.8.2.1//NONSGML v1.0//EN
CALSCALE:GREGORIAN
METHOD:PUBLISH
X-WR-CALNAME:http://santabiker.com
X-ORIGINAL-URL:https://santabiker.com
X-WR-CALDESC:Events for http://santabiker.com
REFRESH-INTERVAL;VALUE=DURATION:PT1H
X-Robots-Tag:noindex
X-PUBLISHED-TTL:PT1H
BEGIN:VTIMEZONE
TZID:America/New_York
BEGIN:DAYLIGHT
TZOFFSETFROM:-0500
TZOFFSETTO:-0400
TZNAME:EDT
DTSTART:20180311T070000
END:DAYLIGHT
BEGIN:STANDARD
TZOFFSETFROM:-0400
TZOFFSETTO:-0500
TZNAME:EST
DTSTART:20181104T060000
END:STANDARD
END:VTIMEZONE
BEGIN:VEVENT
DTSTART;TZID=America/New_York:20181215T100000
DTEND;TZID=America/New_York:20181215T120000
DTSTAMP:20260424T150156
CREATED:20181115T151743Z
LAST-MODIFIED:20181115T151743Z
UID:2207-1544868000-1544875200@santabiker.com
SUMMARY:Santa has breakfast with Parents and students @Corner Charter Academy
DESCRIPTION:In speaking with a PTSA executive board member\, Alexa Barraclough Dowlen\, I have agreed to appear for a breakfast with Santa at Corner stone Charter Academy. \n  \nThis will be on Sat Dec 15\, 2018 from 10:00 to 12:00  at Corner stone Academy located at 5903 Randolph Ave\, Orlando\, FL 32809. \n\n 
URL:https://santabiker.com/event/santa-has-breakfast-with-parents-and-students-corner-charter-academy/
END:VEVENT
BEGIN:VEVENT
DTSTART;TZID=America/New_York:20181215T120000
DTEND;TZID=America/New_York:20181215T123000
DTSTAMP:20260424T150156
CREATED:20181212T134641Z
LAST-MODIFIED:20181212T135641Z
UID:2285-1544875200-1544877000@santabiker.com
SUMMARY:Christmas party at Turnbull Park sponsored by Tammy Withrow
DESCRIPTION:Santa has agreed to make a quick appearance at TurnBull park located at 4941 Turnbull Dr Orlando Fl 32812 for a quick HOA party. \n  \nI will traveling from one appearance to another and this appearance allows for a quick stop over. \n \n 
URL:https://santabiker.com/event/tammy-withrows-christmas-party-at-turnbull/
END:VEVENT
BEGIN:VEVENT
DTSTART;TZID=America/New_York:20181215T170000
DTEND;TZID=America/New_York:20181215T213000
DTSTAMP:20260424T150156
CREATED:20180902T170015Z
LAST-MODIFIED:20180902T202446Z
UID:2132-1544893200-1544909400@santabiker.com
SUMMARY:Stillwater Estates HOA parade
DESCRIPTION:After so many compliments for the past two years of appearances\, The HOA asked requested Santa to appear again for the community. \nSanta will be riding a Fire Truck followed by a personal appearance for pictures at the entrance of the subdivision. \nLooking forward to breaking in the official Santa Chair\, backdrop and props. \n 
URL:https://santabiker.com/event/stillwater-estates-hoa-parade/
END:VEVENT
END:VCALENDAR