BEGIN:VCALENDAR
VERSION:2.0
PRODID:-//http://santabiker.com - ECPv6.8.2.1//NONSGML v1.0//EN
CALSCALE:GREGORIAN
METHOD:PUBLISH
X-ORIGINAL-URL:https://santabiker.com
X-WR-CALDESC:Events for http://santabiker.com
REFRESH-INTERVAL;VALUE=DURATION:PT1H
X-Robots-Tag:noindex
X-PUBLISHED-TTL:PT1H
BEGIN:VTIMEZONE
TZID:America/New_York
BEGIN:DAYLIGHT
TZOFFSETFROM:-0500
TZOFFSETTO:-0400
TZNAME:EDT
DTSTART:20180311T070000
END:DAYLIGHT
BEGIN:STANDARD
TZOFFSETFROM:-0400
TZOFFSETTO:-0500
TZNAME:EST
DTSTART:20181104T060000
END:STANDARD
END:VTIMEZONE
BEGIN:VEVENT
DTSTART;TZID=America/New_York:20181209T123000
DTEND;TZID=America/New_York:20181209T153000
DTSTAMP:20260424T150337
CREATED:20180902T203529Z
LAST-MODIFIED:20180902T203529Z
UID:2134-1544358600-1544369400@santabiker.com
SUMMARY:Bahia Shrine Childrens Christmas Party
DESCRIPTION:Sunday Dec 09\, 2018 Santa will be at the Bahia Shrine Center from 12;30 to 3:30. \nThis is located at  3101 E Semoran Blvd\, Apopka\, FL 32703 \n\n\n\n\n\nThis honoring the children that are patients of the Shriners Hospital for Children that come through the local shrine in Apopka for medical help.\n\nThis started in Dec of 2015 and I have had such welcome welcome that I always look forward to seeing the crowd there.\n\n\n 
URL:https://santabiker.com/event/bahia-shrine-childrens-christmas-party/
END:VEVENT
END:VCALENDAR