BEGIN:VCALENDAR
VERSION:2.0
PRODID:-//http://santabiker.com - ECPv6.8.2.1//NONSGML v1.0//EN
CALSCALE:GREGORIAN
METHOD:PUBLISH
X-ORIGINAL-URL:https://santabiker.com
X-WR-CALDESC:Events for http://santabiker.com
REFRESH-INTERVAL;VALUE=DURATION:PT1H
X-Robots-Tag:noindex
X-PUBLISHED-TTL:PT1H
BEGIN:VTIMEZONE
TZID:America/New_York
BEGIN:DAYLIGHT
TZOFFSETFROM:-0500
TZOFFSETTO:-0400
TZNAME:EDT
DTSTART:20180311T070000
END:DAYLIGHT
BEGIN:STANDARD
TZOFFSETFROM:-0400
TZOFFSETTO:-0500
TZNAME:EST
DTSTART:20181104T060000
END:STANDARD
END:VTIMEZONE
BEGIN:VEVENT
DTSTART;TZID=America/New_York:20181202T080000
DTEND;TZID=America/New_York:20181202T170000
DTSTAMP:20260424T150334
CREATED:20181125T171632Z
LAST-MODIFIED:20181125T171935Z
UID:2230-1543737600-1543770000@santabiker.com
SUMMARY:Santa appears at Bahia Shrine Breakfast
DESCRIPTION:Santa will appear Sunday Dec 02\, 2018 at Bahia Shrine from 9 to 11:00 for their pancake breakfast and to distribute a few toys for some of the Shriner kids. \nThis is located at 3101 E Semoran Blvd\, Apopka\, FL 3270 \nArrangements have been made with 2nd ceremonial master Mark Charlton for this AM appearance. \nMark has been a very dedicate elf for the spirit of Christmas. \nPictures and props are for illustration only from past event at Christmas in July. \nBecause this is a short and quick event\, I plan on appearing on my trusty sleigh and in the Fl wardrobe.
URL:https://santabiker.com/event/santa-appears-at-bahia-shrine-breakfast/
END:VEVENT
BEGIN:VEVENT
DTSTART;TZID=America/New_York:20181202T120000
DTEND;TZID=America/New_York:20181202T210000
DTSTAMP:20260424T150334
CREATED:20181102T013051Z
LAST-MODIFIED:20181125T165621Z
UID:2190-1543752000-1543784400@santabiker.com
SUMMARY:Santa to appear at Fish on Fire
DESCRIPTION:After speaking with Jay Herrington\, owner of Fish on Fire\, I am happy to announce a tentative date for Sun Nov. 25\, 2018  at the Fish  located on Daetwyler Rd in Belle Isle\, Fl \nLast years event was such a big joy. \nLook for updates as the weekend approaches.
URL:https://santabiker.com/event/santa-to-appear-at-fish-on-fire/
END:VEVENT
END:VCALENDAR